BEGIN:VCALENDAR
VERSION:2.0
PRODID:-//Mada - ECPv6.2.2.1//NONSGML v1.0//EN
CALSCALE:GREGORIAN
METHOD:PUBLISH
X-ORIGINAL-URL:https://madaquebec.com
X-WR-CALDESC: Événements pour Mada
REFRESH-INTERVAL;VALUE=DURATION:PT1H
X-Robots-Tag:noindex
X-PUBLISHED-TTL:PT1H
BEGIN:VTIMEZONE
TZID:America/New_York
BEGIN:DAYLIGHT
TZOFFSETFROM:-0500
TZOFFSETTO:-0400
TZNAME:EDT
DTSTART:20170312T070000
END:DAYLIGHT
BEGIN:STANDARD
TZOFFSETFROM:-0400
TZOFFSETTO:-0500
TZNAME:EST
DTSTART:20171105T060000
END:STANDARD
END:VTIMEZONE
BEGIN:VEVENT
DTSTART;VALUE=DATE:20170324
DTEND;VALUE=DATE:20170325
DTSTAMP:20260420T031618
CREATED:20181021T182334Z
LAST-MODIFIED:20181021T182334Z
UID:31704-1490313600-1490399999@madaquebec.com
SUMMARY:Congrès de l'Association québécoise des sciences de l'activité physique\, Université de Sherbrooke.
DESCRIPTION:Inégalités sociales de santé et prévention chez les aînés : de nouveaux enjeux liés aux environnements favorables. Congrès de l’Association québécoise des sciences de l’activité physique. Faculté des sciences de l’activité physique\, Université de Sherbrooke. Sherbrooke\, Québec\, Canada.
URL:https://madaquebec.com/event/congres-de-lassociation-quebecoise-des-sciences-de-lactivite-physique-universite-de-sherbrooke/
LOCATION:Sherbrooke\, 3131 King Ouest\, Sherbrooke\, Québec\, J1L1C8\, Canada
GEO:45.395832;-71.9491115
X-APPLE-STRUCTURED-LOCATION;VALUE=URI;X-ADDRESS=Sherbrooke 3131 King Ouest Sherbrooke Québec J1L1C8 Canada;X-APPLE-RADIUS=500;X-TITLE=3131 King Ouest:geo:-71.9491115,45.395832
END:VEVENT
END:VCALENDAR